BEGIN:VCALENDAR
VERSION:2.0
PRODID:-//wp-events-plugin.com//7.2.3.1//EN
BEGIN:VEVENT
UID:0-135@mon.uvic.cat
DTSTART;TZID=Europe/Madrid:20260422T100000
DTEND;TZID=Europe/Madrid:20260424T160000
DTSTAMP:20260407T150743Z
URL:https://mon.uvic.cat/butlleti-recerca/event/symposium-video-game-acces
 sibility-symposium/
SUMMARY:Symposium Video Game Accessibility Symposium
DESCRIPTION:Symposium Video Game Accessibility Symposium. University Colleg
 e London\, United Kingdom\n\n&nbsp\;
END:VEVENT
BEGIN:VTIMEZONE
TZID:Europe/Madrid
X-LIC-LOCATION:Europe/Madrid
BEGIN:DAYLIGHT
DTSTART:20260329T030000
TZOFFSETFROM:+0100
TZOFFSETTO:+0200
TZNAME:CEST
END:DAYLIGHT
END:VTIMEZONE
END:VCALENDAR