BEGIN:VCALENDAR
VERSION:2.0
PRODID:-//wp-events-plugin.com//7.2.3.1//EN
BEGIN:VEVENT
UID:0-134@mon.uvic.cat
DTSTART;TZID=Europe/Madrid:20260429T093000
DTEND;TZID=Europe/Madrid:20260429T141000
DTSTAMP:20260323T135930Z
URL:https://mon.uvic.cat/butlleti-recerca/event/stem-women-congress-madrid
 -2026/
SUMMARY:STEM Women Congress Madrid 2026
DESCRIPTION:STEM Women Congress Madrid 2026 . Global STEM Women Caixa Forum
  Madrid
END:VEVENT
BEGIN:VTIMEZONE
TZID:Europe/Madrid
X-LIC-LOCATION:Europe/Madrid
BEGIN:DAYLIGHT
DTSTART:20260329T030000
TZOFFSETFROM:+0100
TZOFFSETTO:+0200
TZNAME:CEST
END:DAYLIGHT
END:VTIMEZONE
END:VCALENDAR