BEGIN:VCALENDAR
VERSION:2.0
PRODID:-//wp-events-plugin.com//7.2.3.1//EN
BEGIN:VEVENT
UID:0-137@mon.uvic.cat
DTSTART;TZID=Europe/Madrid:20260421T180000
DTEND;TZID=Europe/Madrid:20260421T200000
DTSTAMP:20260417T091745Z
URL:https://mon.uvic.cat/butlleti-recerca/event/presentacio-del-cataleg-20
 26-de-les-tecnologies-del-csic/
SUMMARY:Presentació del Catàleg 2026 de les Tecnologies del CSIC
DESCRIPTION:Presentació del Catàleg 2026 de les Tecnologies del CSIC \, V
 icepresidencia de Innovación y Transferencia\, Delegación del CSIC en Ca
 taluña. Tech Barcelona-Edificio Pier7.
END:VEVENT
BEGIN:VTIMEZONE
TZID:Europe/Madrid
X-LIC-LOCATION:Europe/Madrid
BEGIN:DAYLIGHT
DTSTART:20260329T030000
TZOFFSETFROM:+0100
TZOFFSETTO:+0200
TZNAME:CEST
END:DAYLIGHT
END:VTIMEZONE
END:VCALENDAR