BEGIN:VCALENDAR
VERSION:2.0
PRODID:-//wp-events-plugin.com//7.2.3.1//EN
BEGIN:VEVENT
UID:0-128@mon.uvic.cat
DTSTART;TZID=Europe/Madrid:20260430T083000
DTEND;TZID=Europe/Madrid:20260430T200000
DTSTAMP:20260317T164421Z
URL:https://mon.uvic.cat/butlleti-recerca/event/jornada-de-biologia-del-ca
 ncer/
SUMMARY:Jornada de Biologia del Càncer
DESCRIPTION:Jornada de Biologia del Càncer. Societat Catalana de Biologia.
  Sala Prat de la Riba\, Institut d’Estudis Catalans
END:VEVENT
BEGIN:VTIMEZONE
TZID:Europe/Madrid
X-LIC-LOCATION:Europe/Madrid
BEGIN:DAYLIGHT
DTSTART:20260329T030000
TZOFFSETFROM:+0100
TZOFFSETTO:+0200
TZNAME:CEST
END:DAYLIGHT
END:VTIMEZONE
END:VCALENDAR