BEGIN:VCALENDAR
VERSION:2.0
PRODID:-//wp-events-plugin.com//7.2.3.1//EN
BEGIN:VEVENT
UID:0-113@mon.uvic.cat
DTSTART;TZID=Europe/Madrid:20260414T170000
DTEND;TZID=Europe/Madrid:20260513T200000
DTSTAMP:20260219T190241Z
URL:https://mon.uvic.cat/butlleti-recerca/event/e-course-ia-generativa-par
 a-traduccion-y-adaptacion-de-textos/
SUMMARY:e-Course IA generativa para traducción y adaptación de textos
DESCRIPTION:e-Course IA generativa para traducción y adaptación de textos
 . University of Malaga\, Spain\n\n&nbsp\;
END:VEVENT
BEGIN:VTIMEZONE
TZID:Europe/Madrid
X-LIC-LOCATION:Europe/Madrid
BEGIN:DAYLIGHT
DTSTART:20260329T030000
TZOFFSETFROM:+0100
TZOFFSETTO:+0200
TZNAME:CEST
END:DAYLIGHT
END:VTIMEZONE
END:VCALENDAR