BEGIN:VCALENDAR
VERSION:2.0
PRODID:-//wp-events-plugin.com//7.2.3.1//EN
BEGIN:VEVENT
UID:0-114@mon.uvic.cat
DTSTART;TZID=Europe/Madrid:20260305T150000
DTEND;TZID=Europe/Madrid:20260430T210000
DTSTAMP:20260219T190627Z
URL:https://mon.uvic.cat/butlleti-recerca/event/e-course-el-factor-humano-
 en-traduccion-creatividad-sensibilidad-e-ingenio-en-tiempos-de-la-intelige
 ncia-artificial/
SUMMARY:e-Course El factor humano en traducción: creatividad\, sensibilida
 d e ingenio en tiempos de la inteligencia artificial
DESCRIPTION:e-Course El factor humano en traducción: creatividad\, sensibi
 lidad e ingenio en tiempos de la inteligencia artificial. University of Mu
 rcia\, Spain\n\n&nbsp\;
END:VEVENT
BEGIN:VTIMEZONE
TZID:Europe/Madrid
X-LIC-LOCATION:Europe/Madrid
BEGIN:STANDARD
DTSTART:20251026T020000
TZOFFSETFROM:+0200
TZOFFSETTO:+0100
TZNAME:CET
END:STANDARD
BEGIN:DAYLIGHT
DTSTART:20260329T030000
TZOFFSETFROM:+0100
TZOFFSETTO:+0200
TZNAME:CEST
END:DAYLIGHT
END:VTIMEZONE
END:VCALENDAR