BEGIN:VCALENDAR
VERSION:2.0
PRODID:-//wp-events-plugin.com//7.2.3.1//EN
BEGIN:VEVENT
UID:0-98@mon.uvic.cat
DTSTART;TZID=Europe/Madrid:20260223T120000
DTEND;TZID=Europe/Madrid:20260522T150000
DTSTAMP:20260119T073148Z
URL:https://mon.uvic.cat/butlleti-recerca/event/e-course-coordinacion-de-a
 cceso-para-cine-y-tv/
SUMMARY:e-Course Coordinación de Acceso para Cine y TV
DESCRIPTION:e-Course Coordinación de Acceso para Cine y TV. University of 
 Vigo and Academia de Cine\, Vigo\, Spain\n\n&nbsp\;\n\n&nbsp\;\n\n&nbsp\;
END:VEVENT
BEGIN:VTIMEZONE
TZID:Europe/Madrid
X-LIC-LOCATION:Europe/Madrid
BEGIN:STANDARD
DTSTART:20251026T020000
TZOFFSETFROM:+0200
TZOFFSETTO:+0100
TZNAME:CET
END:STANDARD
BEGIN:DAYLIGHT
DTSTART:20260329T030000
TZOFFSETFROM:+0100
TZOFFSETTO:+0200
TZNAME:CEST
END:DAYLIGHT
END:VTIMEZONE
END:VCALENDAR