BEGIN:VCALENDAR
VERSION:2.0
PRODID:-//wp-events-plugin.com//7.2.3.1//EN
BEGIN:VEVENT
UID:0-138@mon.uvic.cat
DTSTART;TZID=Europe/Madrid:20260429T180000
DTEND;TZID=Europe/Madrid:20260429T200000
DTSTAMP:20260417T092111Z
URL:https://mon.uvic.cat/butlleti-recerca/event/diada-internacional-de-la-
 immunologia/
SUMMARY:Diada Internacional de la Immunologia
DESCRIPTION:Diada Internacional de la Immunologia. Societat Catalana de Bio
 logia\, IEC. Sala Pere i Joan Coromines. C del Carme\, 47 Barcelona
END:VEVENT
BEGIN:VTIMEZONE
TZID:Europe/Madrid
X-LIC-LOCATION:Europe/Madrid
BEGIN:DAYLIGHT
DTSTART:20260329T030000
TZOFFSETFROM:+0100
TZOFFSETTO:+0200
TZNAME:CEST
END:DAYLIGHT
END:VTIMEZONE
END:VCALENDAR