BEGIN:VCALENDAR
VERSION:2.0
PRODID:-//wp-events-plugin.com//7.2.3.1//EN
BEGIN:VEVENT
UID:0-89@mon.uvic.cat
DTSTART;TZID=Europe/Madrid:20260131T170000
DTEND;TZID=Europe/Madrid:20260424T190000
DTSTAMP:20251209T152136Z
URL:https://mon.uvic.cat/butlleti-recerca/event/course-traducir-para-el-ac
 tor-textos-ingleses-para-la-escena-espanola/
SUMMARY:Course Traducir para el actor: textos ingleses para la escena espa
 ñola
DESCRIPTION:Course Traducir para el actor: textos ingleses para la escena e
 spañola. Universidad Complutense de Madrid &amp\; Teatro de La Abadía\, 
 Madrid\, Spain\n\n&nbsp\;
END:VEVENT
BEGIN:VTIMEZONE
TZID:Europe/Madrid
X-LIC-LOCATION:Europe/Madrid
BEGIN:STANDARD
DTSTART:20251026T020000
TZOFFSETFROM:+0200
TZOFFSETTO:+0100
TZNAME:CET
END:STANDARD
BEGIN:DAYLIGHT
DTSTART:20260329T030000
TZOFFSETFROM:+0100
TZOFFSETTO:+0200
TZNAME:CEST
END:DAYLIGHT
END:VTIMEZONE
END:VCALENDAR